BEGIN:VCALENDAR
VERSION:2.0
PRODID:-//Plone.org//NONSGML plone.app.event//EN
X-WR-TIMEZONE:Europe/Rome
BEGIN:VEVENT
SUMMARY:From a Theory of Oppression to a Practice of Collective Care: Deco
 lonial Principles\, Clinical Work and Mental Health
DTSTART;TZID=Europe/Rome;VALUE=DATE-TIME:20251106T140000
DTEND;TZID=Europe/Rome;VALUE=DATE-TIME:20251106T170000
DTSTAMP;VALUE=DATE-TIME:20260423T033529Z
UID:bcb805265c324fa1b1a1d3d30a5f792c@psicologia.unibo.it
CREATED;VALUE=DATE-TIME:20251028T195458Z
DESCRIPTION:A workshop for mental health professionals\, activists and vol
 unteers to explore decolonial approaches to care and clinical practice wit
 h Samah Jabr and Zaynab Hinnawi. Registration required.
LAST-MODIFIED;VALUE=DATE-TIME:20251028T214030Z
URL:https://psicologia.unibo.it/en/events/from-a-theory-of-oppression-to-a
 -practice-of-collective-care-decolonial-principles-clinical-work-and-menta
 l-health
END:VEVENT
BEGIN:VTIMEZONE
TZID:Europe/Rome
X-LIC-LOCATION:Europe/Rome
BEGIN:STANDARD
DTSTART;VALUE=DATE-TIME:20251026T020000
TZNAME:CET
TZOFFSETFROM:+0200
TZOFFSETTO:+0100
END:STANDARD
END:VTIMEZONE
END:VCALENDAR
