BEGIN:VCALENDAR
VERSION:2.0
PRODID:-//Plone.org//NONSGML plone.app.event//EN
X-WR-TIMEZONE:Europe/Rome
BEGIN:VEVENT
SUMMARY:PhD Day October 2025
DTSTART;TZID=Europe/Rome;VALUE=DATE-TIME:20251016T090000
DTEND;TZID=Europe/Rome;VALUE=DATE-TIME:20251016T163000
DTSTAMP;VALUE=DATE-TIME:20260422T004908Z
UID:af00d170bd1e4bbb8e3a35ec2fa3de91@psicologia.unibo.it
CREATED;VALUE=DATE-TIME:20251006T211621Z
DESCRIPTION:The PhD Day is a moment of exchange and discussion where PhD s
 tudents of the Department of Psychology present their research projects an
 d engage with tutors\, colleagues\, and participants.
LAST-MODIFIED;VALUE=DATE-TIME:20251008T123756Z
URL:https://psicologia.unibo.it/en/events/phd-day-2025
END:VEVENT
BEGIN:VTIMEZONE
TZID:Europe/Rome
X-LIC-LOCATION:Europe/Rome
BEGIN:DAYLIGHT
DTSTART;VALUE=DATE-TIME:20250330T030000
TZNAME:CEST
TZOFFSETFROM:+0100
TZOFFSETTO:+0200
END:DAYLIGHT
END:VTIMEZONE
END:VCALENDAR
