BEGIN:VCALENDAR
VERSION:2.0
PRODID:-//Plone.org//NONSGML plone.app.event//EN
X-WR-TIMEZONE:Europe/Rome
BEGIN:VEVENT
SUMMARY:AdapTol e MatriKS: due strumenti adattivi per la valutazione neuro
 psicologica
DTSTART;TZID=Europe/Rome;VALUE=DATE-TIME:20230912T084500
DTEND;TZID=Europe/Rome;VALUE=DATE-TIME:20230912T160000
DTSTAMP;VALUE=DATE-TIME:20260421T170541Z
UID:7bc1ae33bc734455951f0fe770f99b44@psicologia.unibo.it
CREATED;VALUE=DATE-TIME:20230803T080827Z
LAST-MODIFIED;VALUE=DATE-TIME:20230909T160217Z
URL:https://psicologia.unibo.it/it/eventi/adaptol-e-matriks-due-strumenti-
 adattivi-per-la-valutazione-neuropsicologica
END:VEVENT
BEGIN:VTIMEZONE
TZID:Europe/Rome
X-LIC-LOCATION:Europe/Rome
BEGIN:DAYLIGHT
DTSTART;VALUE=DATE-TIME:20230326T030000
TZNAME:CEST
TZOFFSETFROM:+0100
TZOFFSETTO:+0200
END:DAYLIGHT
END:VTIMEZONE
END:VCALENDAR
