BEGIN:VCALENDAR
VERSION:2.0
PRODID:-//Plone.org//NONSGML plone.app.event//EN
X-WR-TIMEZONE:Europe/Rome
BEGIN:VEVENT
SUMMARY:L’approccio clinico integrato e la rTMS in ambito neurologico e 
 psichiatrico
DTSTART;TZID=Europe/Rome;VALUE=DATE-TIME:20220402T090000
DTEND;TZID=Europe/Rome;VALUE=DATE-TIME:20220402T160000
DTSTAMP;VALUE=DATE-TIME:20260425T233508Z
UID:4477340a5e6d4feb972e086548beb709@psicologia.unibo.it
CREATED;VALUE=DATE-TIME:20220328T074237Z
DESCRIPTION:Corso ECM gratuito
LAST-MODIFIED;VALUE=DATE-TIME:20220328T080800Z
URL:https://psicologia.unibo.it/it/eventi/approccio-clinico-integrato-rtms
 -ambito-neurologico-psichiatrico
END:VEVENT
BEGIN:VTIMEZONE
TZID:Europe/Rome
X-LIC-LOCATION:Europe/Rome
BEGIN:DAYLIGHT
DTSTART;VALUE=DATE-TIME:20220327T030000
TZNAME:CEST
TZOFFSETFROM:+0100
TZOFFSETTO:+0200
END:DAYLIGHT
END:VTIMEZONE
END:VCALENDAR
