BEGIN:VCALENDAR
VERSION:2.0
PRODID:-//Plone.org//NONSGML plone.app.event//EN
X-WR-TIMEZONE:Europe/Rome
BEGIN:VEVENT
SUMMARY:BST - Brainstorm Time Conference
DTSTART;TZID=Europe/Rome;VALUE=DATE-TIME:20220623T090000
DTEND;TZID=Europe/Rome;VALUE=DATE-TIME:20220624T130000
DTSTAMP;VALUE=DATE-TIME:20260422T024935Z
UID:9d938f1dafbd4d49a53f9ab4b25d6967@psicologia.unibo.it
CREATED;VALUE=DATE-TIME:20220527T084640Z
LAST-MODIFIED;VALUE=DATE-TIME:20220618T082100Z
URL:https://psicologia.unibo.it/it/eventi/bst-brainstorm-time-conference
END:VEVENT
BEGIN:VTIMEZONE
TZID:Europe/Rome
X-LIC-LOCATION:Europe/Rome
BEGIN:DAYLIGHT
DTSTART;VALUE=DATE-TIME:20220327T030000
TZNAME:CEST
TZOFFSETFROM:+0100
TZOFFSETTO:+0200
END:DAYLIGHT
END:VTIMEZONE
END:VCALENDAR
