BEGIN:VCALENDAR
VERSION:2.0
PRODID:-//Plone.org//NONSGML plone.app.event//EN
X-WR-TIMEZONE:Europe/Rome
BEGIN:VEVENT
SUMMARY:CINEMA & PSICHE " Il Padre"
DTSTART;VALUE=DATE:20221003
DTEND;VALUE=DATE:20221025
DTSTAMP;VALUE=DATE-TIME:20260421T201158Z
UID:11e5ff0660f64f339e7783e9d658eae9@psicologia.unibo.it
CREATED;VALUE=DATE-TIME:20221014T101724Z
DESCRIPTION:Alla proiezione del film seguirà una breve discussione con es
 perti in psicologia e psicoterapia
LAST-MODIFIED;VALUE=DATE-TIME:20221021T094100Z
URL:https://psicologia.unibo.it/it/eventi/cinema-psiche-il-padre-rassegna-
 a-cura-del-centro-adriatico-di-psicoanalisi
END:VEVENT
END:VCALENDAR
