BEGIN:VCALENDAR
VERSION:2.0
PRODID:-//Plone.org//NONSGML plone.app.event//EN
X-WR-TIMEZONE:Europe/Rome
BEGIN:VEVENT
SUMMARY:Comunicazione e psicologia positiva
DTSTART;TZID=Europe/Rome;VALUE=DATE-TIME:20200211T130000
DTEND;TZID=Europe/Rome;VALUE=DATE-TIME:20200211T160000
DTSTAMP;VALUE=DATE-TIME:20260423T115954Z
UID:b97969ccd0f04ae28afda55d4db5b6c0@psicologia.unibo.it
CREATED;VALUE=DATE-TIME:20200206T084324Z
DESCRIPTION:Incontro con Danijela Babic
LAST-MODIFIED;VALUE=DATE-TIME:20200206T090452Z
URL:https://psicologia.unibo.it/it/eventi/comunicazione-e-psicologia-posit
 iva
END:VEVENT
BEGIN:VTIMEZONE
TZID:Europe/Rome
X-LIC-LOCATION:Europe/Rome
BEGIN:STANDARD
DTSTART;VALUE=DATE-TIME:20191027T020000
TZNAME:CET
TZOFFSETFROM:+0200
TZOFFSETTO:+0100
END:STANDARD
END:VTIMEZONE
END:VCALENDAR
