BEGIN:VCALENDAR
VERSION:2.0
PRODID:-//Plone.org//NONSGML plone.app.event//EN
X-WR-TIMEZONE:Europe/Rome
BEGIN:VEVENT
SUMMARY:Contesti che cambiano: trasformare le comunità attraverso l’att
 ivismo LGBTQIA+
DTSTART;TZID=Europe/Rome;VALUE=DATE-TIME:20220519T150000
DTEND;TZID=Europe/Rome;VALUE=DATE-TIME:20220519T170000
DTSTAMP;VALUE=DATE-TIME:20260421T201158Z
UID:db9eea00a53944ba86c10c8996cc3547@psicologia.unibo.it
CREATED;VALUE=DATE-TIME:20220510T112707Z
DESCRIPTION:In occasione della Giornata Internazionale contro l’omo-bi-l
 esbo-transfobia
LAST-MODIFIED;VALUE=DATE-TIME:20220513T092255Z
URL:https://psicologia.unibo.it/it/eventi/contesti-che-cambiano-trasformar
 e-le-comunita-attraverso-l-attivismo-lgbtqia
END:VEVENT
BEGIN:VTIMEZONE
TZID:Europe/Rome
X-LIC-LOCATION:Europe/Rome
BEGIN:DAYLIGHT
DTSTART;VALUE=DATE-TIME:20220327T030000
TZNAME:CEST
TZOFFSETFROM:+0100
TZOFFSETTO:+0200
END:DAYLIGHT
END:VTIMEZONE
END:VCALENDAR
