BEGIN:VCALENDAR
VERSION:2.0
PRODID:-//Plone.org//NONSGML plone.app.event//EN
X-WR-TIMEZONE:Europe/Rome
BEGIN:VEVENT
SUMMARY:Da una teoria dell’oppressione a una pratica di cura collettiva:
  principi decoloniali\, clinica e salute mentale
DTSTART;TZID=Europe/Rome;VALUE=DATE-TIME:20251106T140000
DTEND;TZID=Europe/Rome;VALUE=DATE-TIME:20251106T170000
DTSTAMP;VALUE=DATE-TIME:20260423T015028Z
UID:b5e4b5819d8c4025a2a0f189039defad@psicologia.unibo.it
CREATED;VALUE=DATE-TIME:20251028T194909Z
DESCRIPTION:Un workshop rivolto a professionistə\, attivistə e volontar
 ə per esplorare pratiche decoloniali di cura e salute mentale insieme a S
 amah Jabr e Zaynab Hinnawi. Iscrizione obbligatoria.
LAST-MODIFIED;VALUE=DATE-TIME:20251028T214030Z
URL:https://psicologia.unibo.it/it/eventi/da-una-teoria-dell-oppressione-a
 -una-pratica-di-cura-collettiva-principi-decoloniali-clinica-e-salute-ment
 ale
END:VEVENT
BEGIN:VTIMEZONE
TZID:Europe/Rome
X-LIC-LOCATION:Europe/Rome
BEGIN:STANDARD
DTSTART;VALUE=DATE-TIME:20251026T020000
TZNAME:CET
TZOFFSETFROM:+0200
TZOFFSETTO:+0100
END:STANDARD
END:VTIMEZONE
END:VCALENDAR
