BEGIN:VCALENDAR
VERSION:2.0
PRODID:-//Plone.org//NONSGML plone.app.event//EN
X-WR-TIMEZONE:Europe/Rome
BEGIN:VEVENT
SUMMARY:I disturbi della nutrizione e dell’alimentazione (DNA) nella rea
 ltà clinica
DTSTART;TZID=Europe/Rome;VALUE=DATE-TIME:20220315T100000
DTEND;TZID=Europe/Rome;VALUE=DATE-TIME:20220315T120000
DTSTAMP;VALUE=DATE-TIME:20260422T081901Z
UID:60b0e9c66c0248ceba4589bccd1cf69b@psicologia.unibo.it
CREATED;VALUE=DATE-TIME:20220304T105023Z
DESCRIPTION:Il seminario\, organizzato dal Corso di Laurea Magistrale in P
 sicologia Clinica\, si svolge nell’ambito della Giornata Nazionale del F
 iocchetto Lilla
LAST-MODIFIED;VALUE=DATE-TIME:20220307T082743Z
URL:https://psicologia.unibo.it/it/eventi/disturbi-nutrizione-alimentazion
 e-dna-nella-realta-clinica
END:VEVENT
BEGIN:VTIMEZONE
TZID:Europe/Rome
X-LIC-LOCATION:Europe/Rome
BEGIN:STANDARD
DTSTART;VALUE=DATE-TIME:20211031T020000
TZNAME:CET
TZOFFSETFROM:+0200
TZOFFSETTO:+0100
END:STANDARD
END:VTIMEZONE
END:VCALENDAR
