BEGIN:VCALENDAR
VERSION:2.0
PRODID:-//Plone.org//NONSGML plone.app.event//EN
X-WR-TIMEZONE:Europe/Rome
BEGIN:VEVENT
SUMMARY:FAKE SHOW
DTSTART;TZID=Europe/Rome;VALUE=DATE-TIME:20251005T180000
DTEND;TZID=Europe/Rome;VALUE=DATE-TIME:20251005T200000
DTSTAMP;VALUE=DATE-TIME:20260421T210239Z
UID:75248659383f4c5fb31d7a72298c8636@psicologia.unibo.it
CREATED;VALUE=DATE-TIME:20250908T115222Z
LAST-MODIFIED;VALUE=DATE-TIME:20250909T115417Z
URL:https://psicologia.unibo.it/it/eventi/fake-show
END:VEVENT
BEGIN:VTIMEZONE
TZID:Europe/Rome
X-LIC-LOCATION:Europe/Rome
BEGIN:DAYLIGHT
DTSTART;VALUE=DATE-TIME:20250330T030000
TZNAME:CEST
TZOFFSETFROM:+0100
TZOFFSETTO:+0200
END:DAYLIGHT
END:VTIMEZONE
END:VCALENDAR
