BEGIN:VCALENDAR
VERSION:2.0
PRODID:-//Plone.org//NONSGML plone.app.event//EN
X-WR-TIMEZONE:Europe/Rome
BEGIN:VEVENT
SUMMARY:Intelligenza Artificiale e Prospettive della Didattica - Giornata 
 di Studio
DTSTART;TZID=Europe/Rome;VALUE=DATE-TIME:20240514T090000
DTEND;TZID=Europe/Rome;VALUE=DATE-TIME:20240514T133000
DTSTAMP;VALUE=DATE-TIME:20260421T101423Z
UID:d4c856715b9247e0a1b0eb6a91d0748d@psicologia.unibo.it
CREATED;VALUE=DATE-TIME:20240506T104434Z
DESCRIPTION:Giovedì 16 maggio 2024\nOrario: 9.00 - 13.30\nAlma Mater Stud
 iorum - Università di Bologna Dipartimento EDU - Aula Magna - Via Filippo
  Re\, 6 - Bologna
LAST-MODIFIED;VALUE=DATE-TIME:20240506T114741Z
URL:https://psicologia.unibo.it/it/eventi/intelligenza-artificiale-e-prosp
 ettive-della-didattica-giornata-di-studio
END:VEVENT
BEGIN:VTIMEZONE
TZID:Europe/Rome
X-LIC-LOCATION:Europe/Rome
BEGIN:DAYLIGHT
DTSTART;VALUE=DATE-TIME:20240331T030000
TZNAME:CEST
TZOFFSETFROM:+0100
TZOFFSETTO:+0200
END:DAYLIGHT
END:VTIMEZONE
END:VCALENDAR
