BEGIN:VCALENDAR
VERSION:2.0
PRODID:-//Plone.org//NONSGML plone.app.event//EN
X-WR-TIMEZONE:Europe/Rome
BEGIN:VEVENT
SUMMARY:Invisibili. O no?
DTSTART;VALUE=DATE:20210727
DTEND;VALUE=DATE:20210728
DTSTAMP;VALUE=DATE-TIME:20260422T081523Z
UID:90a58d605c7f478ba9fbc598c38e1efe@psicologia.unibo.it
CREATED;VALUE=DATE-TIME:20210830T133910Z
DESCRIPTION:Incontro in occasione della presentazione dei volumi "Non siam
 o soli" di Matteo M. Zuppi e "Bambini invisibili. Il lockdown dell’infan
 zia" a cura di Roberto Farné e Lucia Balduzzi
LAST-MODIFIED;VALUE=DATE-TIME:20220503T120026Z
URL:https://psicologia.unibo.it/it/eventi/invisibili-o-no
END:VEVENT
END:VCALENDAR
