BEGIN:VCALENDAR
VERSION:2.0
PRODID:-//Plone.org//NONSGML plone.app.event//EN
X-WR-TIMEZONE:Europe/Rome
BEGIN:VEVENT
SUMMARY:Sviluppare pratiche di cura e solidarietà decoloniali: esperienze
  di realtà attive sul territorio
DTSTART;TZID=Europe/Rome;VALUE=DATE-TIME:20251106T093000
DTEND;TZID=Europe/Rome;VALUE=DATE-TIME:20251106T123000
DTSTAMP;VALUE=DATE-TIME:20260422T021401Z
UID:2127465ef9634c49974ca3532a532467@psicologia.unibo.it
CREATED;VALUE=DATE-TIME:20251027T001221Z
DESCRIPTION:Una tavola rotonda con realtà attive nel territorio per condi
 videre esperienze e pratiche di cura e solidarietà ispirate a prospettive
  decoloniali.
LAST-MODIFIED;VALUE=DATE-TIME:20251028T213947Z
URL:https://psicologia.unibo.it/it/eventi/language-acquisition-in-multilin
 gual-children
END:VEVENT
BEGIN:VTIMEZONE
TZID:Europe/Rome
X-LIC-LOCATION:Europe/Rome
BEGIN:STANDARD
DTSTART;VALUE=DATE-TIME:20251026T020000
TZNAME:CET
TZOFFSETFROM:+0200
TZOFFSETTO:+0100
END:STANDARD
END:VTIMEZONE
END:VCALENDAR
