BEGIN:VCALENDAR
VERSION:2.0
PRODID:-//Plone.org//NONSGML plone.app.event//EN
X-WR-TIMEZONE:Europe/Rome
BEGIN:VEVENT
SUMMARY:Lavorare in cure palliative: quali conoscenze e competenze nella f
 ormazione dello psicologo?
DTSTART;TZID=Europe/Rome;VALUE=DATE-TIME:20220524T140000
DTEND;TZID=Europe/Rome;VALUE=DATE-TIME:20220524T180000
DTSTAMP;VALUE=DATE-TIME:20260421T201159Z
UID:70842efdca714e5f89c4830243c31a81@psicologia.unibo.it
CREATED;VALUE=DATE-TIME:20220503T152310Z
DESCRIPTION:Seminario formativo organizzato dalla Fondazione ANT - Assiste
 nza Nazionale Tumori
LAST-MODIFIED;VALUE=DATE-TIME:20220503T154041Z
URL:https://psicologia.unibo.it/it/eventi/lavorare-in-cure-palliative-qual
 i-conoscenze-e-competenze-nella-formazione-dello-psicologo
END:VEVENT
BEGIN:VTIMEZONE
TZID:Europe/Rome
X-LIC-LOCATION:Europe/Rome
BEGIN:DAYLIGHT
DTSTART;VALUE=DATE-TIME:20220327T030000
TZNAME:CEST
TZOFFSETFROM:+0100
TZOFFSETTO:+0200
END:DAYLIGHT
END:VTIMEZONE
END:VCALENDAR
