BEGIN:VCALENDAR
VERSION:2.0
PRODID:-//Plone.org//NONSGML plone.app.event//EN
X-WR-TIMEZONE:Europe/Rome
BEGIN:VEVENT
SUMMARY:Linguaggio e Apprendimento: Strategie\, Strumenti e Tecnologie
DTSTART;TZID=Europe/Rome;VALUE=DATE-TIME:20251031T090000
DTEND;TZID=Europe/Rome;VALUE=DATE-TIME:20251031T160000
DTSTAMP;VALUE=DATE-TIME:20260422T021722Z
UID:6da7d50e6e4e43dcac0d5eca6defadd4@psicologia.unibo.it
CREATED;VALUE=DATE-TIME:20251010T131934Z
DESCRIPTION:Una giornata di confronto tra ricerca e pratica educativa per 
 esplorare strategie\, strumenti e tecnologie a supporto del linguaggio e d
 ell’apprendimento nei bambini e nei contesti scolastici.
LAST-MODIFIED;VALUE=DATE-TIME:20251010T132515Z
URL:https://psicologia.unibo.it/it/eventi/linguaggio-e-apprendimento-strat
 egie-strumenti-e-tecnologie
END:VEVENT
BEGIN:VTIMEZONE
TZID:Europe/Rome
X-LIC-LOCATION:Europe/Rome
BEGIN:STANDARD
DTSTART;VALUE=DATE-TIME:20251026T020000
TZNAME:CET
TZOFFSETFROM:+0200
TZOFFSETTO:+0100
END:STANDARD
END:VTIMEZONE
END:VCALENDAR
