BEGIN:VCALENDAR
VERSION:2.0
PRODID:-//Plone.org//NONSGML plone.app.event//EN
X-WR-TIMEZONE:Europe/Rome
BEGIN:VEVENT
SUMMARY:Lo Psicologo Scolastico: esperienze e prospettive
DTSTART;TZID=Europe/Rome;VALUE=DATE-TIME:20220205T093000
DTEND;TZID=Europe/Rome;VALUE=DATE-TIME:20220205T130000
DTSTAMP;VALUE=DATE-TIME:20260421T222741Z
UID:6b9189fc2b02431bab51c17213723e20@psicologia.unibo.it
CREATED;VALUE=DATE-TIME:20220121T094037Z
DESCRIPTION:Evento realizzato nell’ambito delle attività del Gruppo di 
 Lavoro sulla psicologia scolastica dell’Ordine degli Psicologi dell’Em
 ilia-Romagna.
LAST-MODIFIED;VALUE=DATE-TIME:20220121T095911Z
URL:https://psicologia.unibo.it/it/eventi/lo-psicologo-scolastico-esperien
 ze-e-prospettive
END:VEVENT
BEGIN:VTIMEZONE
TZID:Europe/Rome
X-LIC-LOCATION:Europe/Rome
BEGIN:STANDARD
DTSTART;VALUE=DATE-TIME:20211031T020000
TZNAME:CET
TZOFFSETFROM:+0200
TZOFFSETTO:+0100
END:STANDARD
END:VTIMEZONE
END:VCALENDAR
