BEGIN:VCALENDAR
VERSION:2.0
PRODID:-//Plone.org//NONSGML plone.app.event//EN
X-WR-TIMEZONE:Europe/Rome
BEGIN:VEVENT
SUMMARY:Oltre le crisi per il benessere: a cosa serve fare ricerca in psic
 ologia?
DTSTART;TZID=Europe/Rome;VALUE=DATE-TIME:20251205T143000
DTEND;TZID=Europe/Rome;VALUE=DATE-TIME:20251205T163000
DTSTAMP;VALUE=DATE-TIME:20260421T165426Z
UID:7db61858c0d04b96a970fe18a4cc1232@psicologia.unibo.it
CREATED;VALUE=DATE-TIME:20251201T140902Z
DESCRIPTION:Un incontro di dialogo sul ruolo della ricerca psicologica nel
 la società e un momento celebrativo dedicato alle tesi premiate del Proge
 tto di Eccellenza 2023–2027.
LAST-MODIFIED;VALUE=DATE-TIME:20251202T081704Z
URL:https://psicologia.unibo.it/it/eventi/oltre-le-crisi-per-il-benessere-
 a-cosa-serve-fare-ricerca-in-psicologia
END:VEVENT
BEGIN:VTIMEZONE
TZID:Europe/Rome
X-LIC-LOCATION:Europe/Rome
BEGIN:STANDARD
DTSTART;VALUE=DATE-TIME:20251026T020000
TZNAME:CET
TZOFFSETFROM:+0200
TZOFFSETTO:+0100
END:STANDARD
END:VTIMEZONE
END:VCALENDAR
