BEGIN:VCALENDAR
VERSION:2.0
PRODID:-//Plone.org//NONSGML plone.app.event//EN
X-WR-TIMEZONE:Europe/Rome
BEGIN:VEVENT
SUMMARY:PhD day Ottobre 2025
DTSTART;TZID=Europe/Rome;VALUE=DATE-TIME:20251016T090000
DTEND;TZID=Europe/Rome;VALUE=DATE-TIME:20251016T163000
DTSTAMP;VALUE=DATE-TIME:20260422T002608Z
UID:5a15249f388748cf880dbba8facb7e58@psicologia.unibo.it
CREATED;VALUE=DATE-TIME:20251006T205222Z
DESCRIPTION:Il PhD Day è un momento di incontro e confronto in cui i dott
 orandi del Dipartimento di Psicologia presentano i loro progetti di ricerc
 a e dialogano con tutor\, colleghi e partecipanti.
LAST-MODIFIED;VALUE=DATE-TIME:20251008T123756Z
URL:https://psicologia.unibo.it/it/eventi/phd-day-2025
END:VEVENT
BEGIN:VTIMEZONE
TZID:Europe/Rome
X-LIC-LOCATION:Europe/Rome
BEGIN:DAYLIGHT
DTSTART;VALUE=DATE-TIME:20250330T030000
TZNAME:CEST
TZOFFSETFROM:+0100
TZOFFSETTO:+0200
END:DAYLIGHT
END:VTIMEZONE
END:VCALENDAR
