BEGIN:VCALENDAR
VERSION:2.0
PRODID:-//Plone.org//NONSGML plone.app.event//EN
X-WR-TIMEZONE:Europe/Rome
BEGIN:VEVENT
SUMMARY:Presentazione programmi di mobilità accademica Erasmus+ per perso
 nale docente e ricercatore
DTSTART;TZID=Europe/Rome;VALUE=DATE-TIME:20240612T160000
DTEND;TZID=Europe/Rome;VALUE=DATE-TIME:20240612T170000
DTSTAMP;VALUE=DATE-TIME:20260421T162610Z
UID:b3ccfeec9baf46e7b28f7c45f2573558@psicologia.unibo.it
CREATED;VALUE=DATE-TIME:20240527T081131Z
DESCRIPTION:Evento per scoprire le opportunità di mobilità per insegname
 nto\, visite di monitoraggio e attività di ricerca verso il Nord America.
LAST-MODIFIED;VALUE=DATE-TIME:20240527T104755Z
URL:https://psicologia.unibo.it/it/eventi/presentazione-programmi-di-mobil
 ita-accademica-erasmus-per-personale-docente-e-ricercatore
END:VEVENT
BEGIN:VTIMEZONE
TZID:Europe/Rome
X-LIC-LOCATION:Europe/Rome
BEGIN:DAYLIGHT
DTSTART;VALUE=DATE-TIME:20240331T030000
TZNAME:CEST
TZOFFSETFROM:+0100
TZOFFSETTO:+0200
END:DAYLIGHT
END:VTIMEZONE
END:VCALENDAR
