BEGIN:VCALENDAR
VERSION:2.0
PRODID:-//Plone.org//NONSGML plone.app.event//EN
X-WR-TIMEZONE:Europe/Rome
BEGIN:VEVENT
SUMMARY:Salute mentale\, liberazione e decolonizzazione: passato\, present
 e e futuro
DTSTART;TZID=Europe/Rome;VALUE=DATE-TIME:20251107T160000
DTEND;TZID=Europe/Rome;VALUE=DATE-TIME:20251107T183000
DTSTAMP;VALUE=DATE-TIME:20260423T014956Z
UID:5bd3be620f1e4b9f93a0126a38769c60@psicologia.unibo.it
CREATED;VALUE=DATE-TIME:20251023T095242Z
DESCRIPTION:Un seminario con Samah Jabr e Wael Garnaoui su psichiatria\, m
 igrazione e dignità nei contesti decoloniali\, con discussione insieme a 
 esperti dell’Istituzione Minguzzi e dell’Università di Bologna.
LAST-MODIFIED;VALUE=DATE-TIME:20251028T214146Z
URL:https://psicologia.unibo.it/it/eventi/salute-mentale-liberazione-e-dec
 olonizzazione-passato-presente-e-futuro
END:VEVENT
BEGIN:VTIMEZONE
TZID:Europe/Rome
X-LIC-LOCATION:Europe/Rome
BEGIN:STANDARD
DTSTART;VALUE=DATE-TIME:20251026T020000
TZNAME:CET
TZOFFSETFROM:+0200
TZOFFSETTO:+0100
END:STANDARD
END:VTIMEZONE
END:VCALENDAR
