BEGIN:VCALENDAR
VERSION:2.0
PRODID:-//Plone.org//NONSGML plone.app.event//EN
X-WR-TIMEZONE:Europe/Rome
BEGIN:VEVENT
SUMMARY:Seminario formativo: la ricerca bibliografica
DTSTART;TZID=Europe/Rome;VALUE=DATE-TIME:20221028T100000
DTEND;TZID=Europe/Rome;VALUE=DATE-TIME:20221028T130000
DTSTAMP;VALUE=DATE-TIME:20260421T201142Z
UID:3f248e0c3ff2443b9bd8684957e06a40@psicologia.unibo.it
CREATED;VALUE=DATE-TIME:20221220T154620Z
DESCRIPTION:Seminario di Information Literacy rivolto agli studenti di Psi
 cologia
LAST-MODIFIED;VALUE=DATE-TIME:20221220T154620Z
URL:https://psicologia.unibo.it/it/eventi/seminario-formativo-la-ricerca-b
 ibliografica-12
END:VEVENT
BEGIN:VTIMEZONE
TZID:Europe/Rome
X-LIC-LOCATION:Europe/Rome
BEGIN:DAYLIGHT
DTSTART;VALUE=DATE-TIME:20220327T030000
TZNAME:CEST
TZOFFSETFROM:+0100
TZOFFSETTO:+0200
END:DAYLIGHT
END:VTIMEZONE
END:VCALENDAR
