BEGIN:VCALENDAR
VERSION:2.0
PRODID:-//Plone.org//NONSGML plone.app.event//EN
X-WR-TIMEZONE:Europe/Rome
BEGIN:VEVENT
SUMMARY:Seminario formativo: la ricerca bibliografica
DTSTART;TZID=Europe/Rome;VALUE=DATE-TIME:20221125T100000
DTEND;TZID=Europe/Rome;VALUE=DATE-TIME:20221125T120000
DTSTAMP;VALUE=DATE-TIME:20260421T201118Z
UID:522a90ced227422cba7b24c2a53ac413@psicologia.unibo.it
CREATED;VALUE=DATE-TIME:20221220T154850Z
DESCRIPTION:Seminario di Information Literacy rivolto agli studenti di Psi
 cologia
LAST-MODIFIED;VALUE=DATE-TIME:20221220T154850Z
URL:https://psicologia.unibo.it/it/eventi/seminario-formativo-la-ricerca-b
 ibliografica-13
END:VEVENT
BEGIN:VTIMEZONE
TZID:Europe/Rome
X-LIC-LOCATION:Europe/Rome
BEGIN:STANDARD
DTSTART;VALUE=DATE-TIME:20221030T020000
TZNAME:CET
TZOFFSETFROM:+0200
TZOFFSETTO:+0100
END:STANDARD
END:VTIMEZONE
END:VCALENDAR
