BEGIN:VCALENDAR
VERSION:2.0
PRODID:-//Plone.org//NONSGML plone.app.event//EN
X-WR-TIMEZONE:Europe/Rome
BEGIN:VEVENT
SUMMARY:Seminario formativo: la ricerca bibliografica
DTSTART;TZID=Europe/Rome;VALUE=DATE-TIME:20220211T100000
DTEND;TZID=Europe/Rome;VALUE=DATE-TIME:20220211T120000
DTSTAMP;VALUE=DATE-TIME:20260425T200039Z
UID:d8325a96a70b4fac8e952924042f401b@psicologia.unibo.it
CREATED;VALUE=DATE-TIME:20220224T120759Z
DESCRIPTION:Seminario di Information Literacy rivolto agli studenti di Psi
 cologia
LAST-MODIFIED;VALUE=DATE-TIME:20220224T121027Z
URL:https://psicologia.unibo.it/it/eventi/seminario-formativo-la-ricerca-b
 ibliografica-2
END:VEVENT
BEGIN:VTIMEZONE
TZID:Europe/Rome
X-LIC-LOCATION:Europe/Rome
BEGIN:STANDARD
DTSTART;VALUE=DATE-TIME:20211031T020000
TZNAME:CET
TZOFFSETFROM:+0200
TZOFFSETTO:+0100
END:STANDARD
END:VTIMEZONE
END:VCALENDAR
