BEGIN:VCALENDAR
VERSION:2.0
PRODID:-//Plone.org//NONSGML plone.app.event//EN
X-WR-TIMEZONE:Europe/Rome
BEGIN:VEVENT
SUMMARY:Seminario Prof. Ashok Jansari
DTSTART;TZID=Europe/Rome;VALUE=DATE-TIME:20240506T120000
DTEND;TZID=Europe/Rome;VALUE=DATE-TIME:20240506T130000
DTSTAMP;VALUE=DATE-TIME:20260419T164833Z
UID:2ba09826959a48b498ec2319f003baf3@psicologia.unibo.it
CREATED;VALUE=DATE-TIME:20240502T134911Z
DESCRIPTION:Nell'ambito del corso di Semeiotica e Diagnosi Differenziale i
 n Neuropsicologia (Laurea Magistrale in Neuroscienze e Riabilitazione Neur
 opsicologica)
LAST-MODIFIED;VALUE=DATE-TIME:20240502T141225Z
URL:https://psicologia.unibo.it/it/eventi/seminario-prof-ashok-jansari
END:VEVENT
BEGIN:VTIMEZONE
TZID:Europe/Rome
X-LIC-LOCATION:Europe/Rome
BEGIN:DAYLIGHT
DTSTART;VALUE=DATE-TIME:20240331T030000
TZNAME:CEST
TZOFFSETFROM:+0100
TZOFFSETTO:+0200
END:DAYLIGHT
END:VTIMEZONE
END:VCALENDAR
