BEGIN:VCALENDAR
VERSION:2.0
PRODID:-//Plone.org//NONSGML plone.app.event//EN
X-WR-TIMEZONE:Europe/Rome
BEGIN:VEVENT
SUMMARY:Seminario "Salute\, relazioni e Outdoor Education nella fascia 0-6
 : esperienze educative in periodo Covid-19"
DTSTART;TZID=Europe/Rome;VALUE=DATE-TIME:20210615T140000
DTEND;TZID=Europe/Rome;VALUE=DATE-TIME:20210615T170000
DTSTAMP;VALUE=DATE-TIME:20260422T012729Z
UID:c10e08a610704d3fb827554f8907665b@psicologia.unibo.it
CREATED;VALUE=DATE-TIME:20210615T090606Z
LAST-MODIFIED;VALUE=DATE-TIME:20210615T090607Z
URL:https://psicologia.unibo.it/it/eventi/seminario-salute-relazioni-e-out
 door-education-nella-fascia-0-6-esperienze-educative-in-periodo-covid-19
END:VEVENT
BEGIN:VTIMEZONE
TZID:Europe/Rome
X-LIC-LOCATION:Europe/Rome
BEGIN:DAYLIGHT
DTSTART;VALUE=DATE-TIME:20210328T030000
TZNAME:CEST
TZOFFSETFROM:+0100
TZOFFSETTO:+0200
END:DAYLIGHT
END:VTIMEZONE
END:VCALENDAR
