BEGIN:VCALENDAR
VERSION:2.0
PRODID:-//Plone.org//NONSGML plone.app.event//EN
X-WR-TIMEZONE:Europe/Rome
BEGIN:VEVENT
SUMMARY:SERVICE LEARNING PER LA COMUNITA E PER LA PROFESSIONE: PROVE DI IN
 NOVAZIONE PARTECIPATA PER LA FORMAZIONE IN PSICOLOGIA IN UNIBO
DTSTART;TZID=Europe/Rome;VALUE=DATE-TIME:20220128T091500
DTEND;TZID=Europe/Rome;VALUE=DATE-TIME:20220128T130000
DTSTAMP;VALUE=DATE-TIME:20260422T081924Z
UID:57ea546cf5af4916955159be1688fde2@psicologia.unibo.it
CREATED;VALUE=DATE-TIME:20220126T083926Z
DESCRIPTION:Gli studenti e le studentesse della Laurea Magistrale in Psico
 logia saranno protagonist* di un evento di condivisione delle esperienze d
 i Service Learning.
LAST-MODIFIED;VALUE=DATE-TIME:20220126T093249Z
URL:https://psicologia.unibo.it/it/eventi/service-learning-per-la-comunita
 -e-per-la-professione-prove-di-innovazione-partecipata-per-la-formazione-i
 n-psicologia-in-unibo
END:VEVENT
BEGIN:VTIMEZONE
TZID:Europe/Rome
X-LIC-LOCATION:Europe/Rome
BEGIN:STANDARD
DTSTART;VALUE=DATE-TIME:20211031T020000
TZNAME:CET
TZOFFSETFROM:+0200
TZOFFSETTO:+0100
END:STANDARD
END:VTIMEZONE
END:VCALENDAR
