BEGIN:VCALENDAR
VERSION:2.0
PRODID:-//Plone.org//NONSGML plone.app.event//EN
X-WR-TIMEZONE:Europe/Rome
BEGIN:VEVENT
SUMMARY:The Motor-way to Decision Making - MoDeM
DTSTART;VALUE=DATE:20230606
DTEND;VALUE=DATE:20230607
DTSTAMP;VALUE=DATE-TIME:20260421T165035Z
UID:da11f4029a4247368daa3d4a09114424@psicologia.unibo.it
CREATED;VALUE=DATE-TIME:20230516T152659Z
DESCRIPTION:The conference will disseminate the results of the MoDeM Proje
 ct\, which investigates the role of the cortical motor system in decision 
 making and is funded by the Human Brain Project and FLAG-ERA.
LAST-MODIFIED;VALUE=DATE-TIME:20230516T162630Z
URL:https://psicologia.unibo.it/it/eventi/the-motor-way-to-decision-making
 -modem
END:VEVENT
END:VCALENDAR
