BEGIN:VCALENDAR
VERSION:2.0
PRODID:-//Plone.org//NONSGML plone.app.event//EN
X-WR-TIMEZONE:Europe/Rome
BEGIN:VEVENT
SUMMARY:The New Psychology of Language
DTSTART;TZID=Europe/Rome;VALUE=DATE-TIME:20240513T110000
DTEND;TZID=Europe/Rome;VALUE=DATE-TIME:20240513T130000
DTSTAMP;VALUE=DATE-TIME:20260421T101921Z
UID:ec7118b29fe344ffb2ce5a117bfcc338@psicologia.unibo.it
CREATED;VALUE=DATE-TIME:20240506T132808Z
DESCRIPTION:Seminario del Prof. Ton Dijkstra
LAST-MODIFIED;VALUE=DATE-TIME:20240506T132909Z
URL:https://psicologia.unibo.it/it/eventi/the-new-psychology-of-language
END:VEVENT
BEGIN:VTIMEZONE
TZID:Europe/Rome
X-LIC-LOCATION:Europe/Rome
BEGIN:DAYLIGHT
DTSTART;VALUE=DATE-TIME:20240331T030000
TZNAME:CEST
TZOFFSETFROM:+0100
TZOFFSETTO:+0200
END:DAYLIGHT
END:VTIMEZONE
END:VCALENDAR
