BEGIN:VCALENDAR
VERSION:2.0
PRODID:-//Plone.org//NONSGML plone.app.event//EN
X-WR-TIMEZONE:Europe/Rome
BEGIN:VEVENT
SUMMARY:TO ADVANCE GENDER EQUALITY. USE THE EVIDENCE
DTSTART;TZID=Europe/Rome;VALUE=DATE-TIME:20240524T100000
DTEND;TZID=Europe/Rome;VALUE=DATE-TIME:20240524T120000
DTSTAMP;VALUE=DATE-TIME:20260421T131729Z
UID:4e3ba7ae86974defb4e0bac83a905ff9@psicologia.unibo.it
CREATED;VALUE=DATE-TIME:20240517T111549Z
DESCRIPTION:Workshop Professor Michelle Ryan
LAST-MODIFIED;VALUE=DATE-TIME:20240517T114101Z
URL:https://psicologia.unibo.it/it/eventi/to-advance-gender-equality-use-t
 he-evidence
END:VEVENT
BEGIN:VTIMEZONE
TZID:Europe/Rome
X-LIC-LOCATION:Europe/Rome
BEGIN:DAYLIGHT
DTSTART;VALUE=DATE-TIME:20240331T030000
TZNAME:CEST
TZOFFSETFROM:+0100
TZOFFSETTO:+0200
END:DAYLIGHT
END:VTIMEZONE
END:VCALENDAR
