BEGIN:VCALENDAR
VERSION:2.0
PRODID:-//Plone.org//NONSGML plone.app.event//EN
X-WR-TIMEZONE:Europe/Rome
BEGIN:VEVENT
SUMMARY:URBAN GAMERS LAB - In occasione di Alma Mater Fest
DTSTART;VALUE=DATE:20221007
DTEND;VALUE=DATE:20221008
DTSTAMP;VALUE=DATE-TIME:20260421T201334Z
UID:336920de957b453385732a019f2f1d2e@psicologia.unibo.it
CREATED;VALUE=DATE-TIME:20221005T113822Z
DESCRIPTION:Un Progetto di formazione promosso dai Dipartimenti di Archite
 ttura e Design (ADU)\, Psicologia (P5I)\, Informatica (DISI) dell’Alma M
 ater Studiorum Università di Bologna
LAST-MODIFIED;VALUE=DATE-TIME:20221005T132807Z
URL:https://psicologia.unibo.it/it/eventi/urban-gamers-lab-in-occasione-de
 lla-terza-edizione-di-alma-mater-festival
END:VEVENT
END:VCALENDAR
